BEGIN:VCALENDAR
VERSION:2.0
PRODID:-//Cumbria Wellbeing Hub - ECPv6.15.17.1//NONSGML v1.0//EN
CALSCALE:GREGORIAN
METHOD:PUBLISH
X-WR-CALNAME:Cumbria Wellbeing Hub
X-ORIGINAL-URL:https://cumbriawellbeinghub.co.uk
X-WR-CALDESC:Events for Cumbria Wellbeing Hub
REFRESH-INTERVAL;VALUE=DURATION:PT1H
X-Robots-Tag:noindex
X-PUBLISHED-TTL:PT1H
BEGIN:VTIMEZONE
TZID:UTC
BEGIN:STANDARD
TZOFFSETFROM:+0000
TZOFFSETTO:+0000
TZNAME:UTC
DTSTART:20250101T000000
END:STANDARD
END:VTIMEZONE
BEGIN:VEVENT
DTSTART;TZID=UTC:20260419T130000
DTEND;TZID=UTC:20260419T150000
DTSTAMP:20260420T051514
CREATED:20260309T205926Z
LAST-MODIFIED:20260309T210131Z
UID:3143-1776603600-1776610800@cumbriawellbeinghub.co.uk
SUMMARY:Sunday Sanctuary
DESCRIPTION:Join us as we unite body\, breath and mind to create space for calm and self-connection\, using the soothing qualities of yogic movement\, the breath and sound-healing.
URL:https://cumbriawellbeinghub.co.uk/event/sunday-sanctuary/
LOCATION:Gosling Sike\, Cumbria
ATTACH;FMTTYPE=image/jpeg:https://cumbriawellbeinghub.co.uk/wp-content/uploads/2026/03/Sunday-Sanctuary.jpg
END:VEVENT
BEGIN:VEVENT
DTSTART;TZID=UTC:20260412T000000
DTEND;TZID=UTC:20260412T235959
DTSTAMP:20260420T051514
CREATED:20260309T193702Z
LAST-MODIFIED:20260309T195255Z
UID:3135-1775952000-1776038399@cumbriawellbeinghub.co.uk
SUMMARY:Runners Reset
DESCRIPTION:Train smarter\, not harder; a day of REAL recovery including: \n\nEducation and training tools to enhance running economy\, recovery\, and mental and physical performance\nA restorative breathwork journey\nRefreshments\nA guided fell walk in beautiful Buttermere\n\nReset. Recover. Perform better.
URL:https://cumbriawellbeinghub.co.uk/event/runners-reset/
LOCATION:Buttermere\, The Lake District
ATTACH;FMTTYPE=image/jpeg:https://cumbriawellbeinghub.co.uk/wp-content/uploads/2026/03/Runners-Reset.jpg
END:VEVENT
END:VCALENDAR